BEGIN:VCALENDAR
VERSION:2.0
PRODID:-//Sloat Garden Center - ECPv6.15.20//NONSGML v1.0//EN
CALSCALE:GREGORIAN
METHOD:PUBLISH
X-ORIGINAL-URL:https://sloatgardens.com
X-WR-CALDESC:Events for Sloat Garden Center
REFRESH-INTERVAL;VALUE=DURATION:PT1H
X-Robots-Tag:noindex
X-PUBLISHED-TTL:PT1H
BEGIN:VTIMEZONE
TZID:America/Los_Angeles
BEGIN:DAYLIGHT
TZOFFSETFROM:-0800
TZOFFSETTO:-0700
TZNAME:PDT
DTSTART:20240310T100000
END:DAYLIGHT
BEGIN:STANDARD
TZOFFSETFROM:-0700
TZOFFSETTO:-0800
TZNAME:PST
DTSTART:20241103T090000
END:STANDARD
BEGIN:DAYLIGHT
TZOFFSETFROM:-0800
TZOFFSETTO:-0700
TZNAME:PDT
DTSTART:20250309T100000
END:DAYLIGHT
BEGIN:STANDARD
TZOFFSETFROM:-0700
TZOFFSETTO:-0800
TZNAME:PST
DTSTART:20251102T090000
END:STANDARD
BEGIN:DAYLIGHT
TZOFFSETFROM:-0800
TZOFFSETTO:-0700
TZNAME:PDT
DTSTART:20260308T100000
END:DAYLIGHT
BEGIN:STANDARD
TZOFFSETFROM:-0700
TZOFFSETTO:-0800
TZNAME:PST
DTSTART:20261101T090000
END:STANDARD
END:VTIMEZONE
BEGIN:VEVENT
DTSTART;TZID=America/Los_Angeles:20251206T100000
DTEND;TZID=America/Los_Angeles:20251206T140000
DTSTAMP:20260421T054016
CREATED:20251024T211715Z
LAST-MODIFIED:20251111T164610Z
UID:10000434-1765015200-1765029600@sloatgardens.com
SUMMARY:Winter Gift Market Pleasant Hill
DESCRIPTION:You’re invited to our first annual Winter Gift Market! \nCelebrate the season and shop locally at Sloat Garden Centers’ Holiday Gift Markets! Discover unique\, handcrafted treasures from local artisans\, enjoy live music\, kids’ ornament crafts\, and succulent wreath workshops. Cozy up with warm drinks as you soak in the festive atmosphere. While you’re here\, pick out a stunning wreath or fresh-cut tree to bring holiday cheer to your home. See you soon! \n\nPleasant Hill: Saturday\, December 6\n Kentfield: Saturday\, December 13\nSloat Blvd SF: Saturday\, December 20\n\nAll festivities from 10am – 2pm. Stores open regular hours. 
URL:https://sloatgardens.com/event/winter-gift-market-pleasant-hill/
LOCATION:Sloat Pleasant Hill
CATEGORIES:In-Store
ATTACH;FMTTYPE=image/jpeg:https://sloatgardens.com/wp-content/uploads/2025/10/Winter-Market-Logo-2025-.jpg
END:VEVENT
BEGIN:VEVENT
DTSTART;TZID=America/Los_Angeles:20251206T130000
DTEND;TZID=America/Los_Angeles:20251206T140000
DTSTAMP:20260421T054016
CREATED:20251111T011224Z
LAST-MODIFIED:20251204T224200Z
UID:10000437-1765026000-1765029600@sloatgardens.com
SUMMARY:Pleasant Hill Make & Take Workshop: Create a Succulent Wreath
DESCRIPTION:Join us for a fun holiday succulent wreath workshop! You’ll create a beautiful combination wreath with succulents and festive greens that’s perfect for your holiday decor. All materials and instruction included—just bring yourself! This class is always a hit\, and we’re excited to bring it back during our Winter Markets. Space is limited—please call each store to sign up!  Fee: $100 per participant. Call to register: 925-939-9000 \nIn 4 locations this December! \nPleasant Hill\, 12/6\, 1-2pm | Call to register: 925-939-9000\nKentfield\, 12/13\, 1-2pm | Call to register: 415-454-0262\nPetaluma\, 12/13\, 1-2pm | Call to register: 707-347-5837\nSloat Blvd.\, SF\, 12/20\, 1-2pm | Call to register: 415-566-4415 \n  \n 
URL:https://sloatgardens.com/event/make-take-workshop-create-a-succulent-wreath/
LOCATION:Sloat Pleasant Hill
CATEGORIES:In-Store,Seminars & Events
ATTACH;FMTTYPE=image/jpeg:https://sloatgardens.com/wp-content/uploads/2022/09/succulent-wreath.jpg
END:VEVENT
BEGIN:VEVENT
DTSTART;TZID=America/Los_Angeles:20251213T100000
DTEND;TZID=America/Los_Angeles:20251213T140000
DTSTAMP:20260421T054016
CREATED:20251024T221540Z
LAST-MODIFIED:20251111T164701Z
UID:10000435-1765620000-1765634400@sloatgardens.com
SUMMARY:Winter Gift Market Kentfield
DESCRIPTION:You’re invited to our first annual Winter Gift Market! \nCelebrate the season and shop locally at Sloat Garden Centers’ Holiday Gift Markets! Discover unique\, handcrafted treasures from local artisans\, enjoy live music\, kids’ ornament crafts\, and succulent wreath workshops. Cozy up with warm drinks as you soak in the festive atmosphere. While you’re here\, pick out a stunning wreath or fresh-cut tree to bring holiday cheer to your home. See you soon! \n\n Kentfield: Saturday\, December 13\nSloat Blvd SF: Saturday\, December 20\n\nAll festivities from 10am – 2pm. Stores open regular hours. 
URL:https://sloatgardens.com/event/winter-gift-market-kentfield/
LOCATION:Sloat Kentfield
CATEGORIES:In-Store
ATTACH;FMTTYPE=image/jpeg:https://sloatgardens.com/wp-content/uploads/2025/10/Winter-Market-Logo-2025-.jpg
END:VEVENT
BEGIN:VEVENT
DTSTART;TZID=America/Los_Angeles:20251213T130000
DTEND;TZID=America/Los_Angeles:20251213T140000
DTSTAMP:20260421T054016
CREATED:20251111T012027Z
LAST-MODIFIED:20251204T225633Z
UID:10000438-1765630800-1765634400@sloatgardens.com
SUMMARY:Kentfield Make & Take Workshop: Create a Succulent Wreath
DESCRIPTION:Join us for a fun holiday succulent wreath workshop! You’ll create a beautiful combination wreath with succulents and festive greens that’s perfect for your holiday decor. All materials and instruction included—just bring yourself! This class is always a hit\, and we’re excited to bring it back during our Winter Markets. Space is limited—please call each store to sign up!  Fee: $100 per participant. Call to register: 415-454-0262 \nIn 3 locations this December! \nKentfield\, 12/13\, 1-2pm | Call to register: 415-454-0262\nPetaluma\, 12/13\, 1-2pm | Call to register: 707-347-5837\nSloat Blvd.\, SF\, 12/20\, 1-2pm | Call to register: 415-566-4415
URL:https://sloatgardens.com/event/kentfield-make-take-workshop-create-a-succulent-wreath/
LOCATION:Sloat Kentfield
CATEGORIES:In-Store,Seminars & Events
ATTACH;FMTTYPE=image/jpeg:https://sloatgardens.com/wp-content/uploads/2017/07/succulent-wreath-workshop.jpg
END:VEVENT
BEGIN:VEVENT
DTSTART;TZID=America/Los_Angeles:20251213T130000
DTEND;TZID=America/Los_Angeles:20251213T140000
DTSTAMP:20260421T054016
CREATED:20251204T192026Z
LAST-MODIFIED:20251204T223756Z
UID:10000440-1765630800-1765634400@sloatgardens.com
SUMMARY:Petaluma Make & Take Workshop: Create a Succulent Wreath
DESCRIPTION:Join us for a fun holiday succulent wreath workshop! You’ll create a beautiful combination wreath with succulents and festive greens that’s perfect for your holiday decor. All materials and instruction included—just bring yourself! This class is always a hit\, and we’re excited to bring it to our newest community here in Petaluma. Space is limited—please call to sign up! \nFee: $100 per participant. Call to register: 707-347-5837 \nIn 3 locations this December! \nKentfield\, 12/13\, 1-2pm | Call to register: 415-454-0262\nPetaluma\, 12/13\, 1-2pm | Call to register: 707-347-5837\nSloat Blvd.\, SF\, 12/20\, 1-2pm | Call to register: 415-566-4415
URL:https://sloatgardens.com/event/petaluma-make-take-workshop-create-a-succulent-wreath/
LOCATION:Sloat Petaluma\, 301 Wilson at East D St\, Petaluma\, CA\, 94952\, United States
CATEGORIES:In-Store,Seminars & Events
ATTACH;FMTTYPE=image/jpeg:https://sloatgardens.com/wp-content/uploads/2019/08/succulent-wreath-seminar.jpg
END:VEVENT
BEGIN:VEVENT
DTSTART;TZID=America/Los_Angeles:20251220T100000
DTEND;TZID=America/Los_Angeles:20251220T140000
DTSTAMP:20260421T054016
CREATED:20251024T222234Z
LAST-MODIFIED:20251111T164758Z
UID:10000436-1766224800-1766239200@sloatgardens.com
SUMMARY:Winter Gift Market Sloat Blvd.\, SF
DESCRIPTION:You’re invited to our first annual Winter Gift Market! \nCelebrate the season and shop locally at Sloat Garden Centers’ Holiday Gift Markets! Discover unique\, handcrafted treasures from local artisans\, enjoy live music\, kids’ ornament crafts\, and a succulent wreath workshop. Cozy up with warm drinks as you soak in the festive atmosphere. While you’re here\, pick out a stunning wreath or fresh-cut tree to bring holiday cheer to your home. See you soon! \n\nSloat Blvd SF: Saturday\, December 20\n\nAll festivities from 10am – 2pm. Stores open regular hours. 
URL:https://sloatgardens.com/event/winter-gift-market-sloat-blvd-sf/
LOCATION:Sloat Boulevard\, SF\, 2700 Sloat Blvd\, San Francisco\, CA\, 94116\, United States
CATEGORIES:In-Store
ATTACH;FMTTYPE=image/jpeg:https://sloatgardens.com/wp-content/uploads/2025/10/Winter-Market-Logo-2025-.jpg
END:VEVENT
BEGIN:VEVENT
DTSTART;TZID=America/Los_Angeles:20251220T130000
DTEND;TZID=America/Los_Angeles:20251220T140000
DTSTAMP:20260421T054016
CREATED:20251111T012342Z
LAST-MODIFIED:20251111T170202Z
UID:10000439-1766235600-1766239200@sloatgardens.com
SUMMARY:Sloat Blvd SF Make & Take Workshop: Create a Succulent Wreath
DESCRIPTION:Join us for a fun holiday succulent wreath workshop! You’ll create a beautiful combination wreath with succulents and festive greens that’s perfect for your holiday decor. All materials and instruction included—just bring yourself! This class is always a hit\, and we’re excited to bring it back during our Winter Market. Space is limited—please call each store to sign up!  Fee: $100 per participant. \nSloat Blvd.\, SF\, 12/20\, 1-2pm | Call to register: 415-566-4415
URL:https://sloatgardens.com/event/sloat-blvd-sf-make-take-workshop-create-a-succulent-wreath/
LOCATION:Sloat Boulevard\, SF\, 2700 Sloat Blvd\, San Francisco\, CA\, 94116\, United States
CATEGORIES:In-Store,Seminars & Events
ATTACH;FMTTYPE=image/jpeg:https://sloatgardens.com/wp-content/uploads/2018/09/succulent-wreath.jpg
END:VEVENT
END:VCALENDAR