BEGIN:VCALENDAR
VERSION:2.0
PRODID:-//Sloat Garden Center - ECPv6.15.20//NONSGML v1.0//EN
CALSCALE:GREGORIAN
METHOD:PUBLISH
X-ORIGINAL-URL:https://sloatgardens.com
X-WR-CALDESC:Events for Sloat Garden Center
REFRESH-INTERVAL;VALUE=DURATION:PT1H
X-Robots-Tag:noindex
X-PUBLISHED-TTL:PT1H
BEGIN:VTIMEZONE
TZID:America/Los_Angeles
BEGIN:DAYLIGHT
TZOFFSETFROM:-0800
TZOFFSETTO:-0700
TZNAME:PDT
DTSTART:20240310T100000
END:DAYLIGHT
BEGIN:STANDARD
TZOFFSETFROM:-0700
TZOFFSETTO:-0800
TZNAME:PST
DTSTART:20241103T090000
END:STANDARD
BEGIN:DAYLIGHT
TZOFFSETFROM:-0800
TZOFFSETTO:-0700
TZNAME:PDT
DTSTART:20250309T100000
END:DAYLIGHT
BEGIN:STANDARD
TZOFFSETFROM:-0700
TZOFFSETTO:-0800
TZNAME:PST
DTSTART:20251102T090000
END:STANDARD
BEGIN:DAYLIGHT
TZOFFSETFROM:-0800
TZOFFSETTO:-0700
TZNAME:PDT
DTSTART:20260308T100000
END:DAYLIGHT
BEGIN:STANDARD
TZOFFSETFROM:-0700
TZOFFSETTO:-0800
TZNAME:PST
DTSTART:20261101T090000
END:STANDARD
END:VTIMEZONE
BEGIN:VEVENT
DTSTART;TZID=America/Los_Angeles:20251004T100000
DTEND;TZID=America/Los_Angeles:20251004T110000
DTSTAMP:20260421T052838
CREATED:20250909T174958Z
LAST-MODIFIED:20250909T175500Z
UID:10000430-1759572000-1759575600@sloatgardens.com
SUMMARY:In-Store Pleasant Hill Pruning Basics Seminar with Elizabeth Ruiz
DESCRIPTION:Pruning expert Elizabeth Ruiz joins us to demonstrate effective pruning techniques. She’ll also share general tips and troubleshooting. This seminar (held during our Harvest Festivals) is recommended for every level of gardener. Please call your preferred location to reserve a spot. See you there! \nSeminar Locations & Dates: \n\nPleasant Hill\, 10/4\, 10-11am. 925-939-9000\nKentfield.\, 10/11\, 10-11am. 415-454-0262\nPetaluma\, 10/25\, 10-11am. 707-347-5837
URL:https://sloatgardens.com/event/in-store-pleasant-hill-pruning-basics-seminar-with-elizabeth-ruiz/
LOCATION:Sloat Pleasant Hill
CATEGORIES:Seminars & Events
ATTACH;FMTTYPE=image/jpeg:https://sloatgardens.com/wp-content/uploads/2021/12/pruning.jpg
END:VEVENT
BEGIN:VEVENT
DTSTART;TZID=America/Los_Angeles:20251004T130000
DTEND;TZID=America/Los_Angeles:20251004T140000
DTSTAMP:20260421T052838
CREATED:20250909T131506Z
LAST-MODIFIED:20250926T164818Z
UID:10000426-1759582800-1759586400@sloatgardens.com
SUMMARY:In-Store Pleasant Hill Harvest Festival Succulent Pumpkin Workshop
DESCRIPTION:Create a beautiful decorative centerpiece perfect for fall! Join us for this popular hands-on workshop to design your own succulent pumpkin arrangement. This workshop takes place during our Harvest Festivals. Dates noted below. $60 fee per participant. All materials included: pumpkin\, moss\, succulents\, and expert instruction.  \nWorkshop Locations & Dates: \n\nPleasant Hill – October 4\, 1-2pm | Call 925-939-9000 to register\nKentfield – October 11\, 1-2pm | Call 415-454-0262 to register\nPetaluma – October 25\, 1-2pm | Call 707-347-5837 to register\n\nPlease call your preferred location to reserve a spot. This workshop fills up quickly and is always a favorite among our guests!
URL:https://sloatgardens.com/event/in-store-pleasant-hill-harvest-festival-succulent-pumpkin-workshop/
LOCATION:Sloat Pleasant Hill
CATEGORIES:In-Store
ATTACH;FMTTYPE=image/jpeg:https://sloatgardens.com/wp-content/uploads/2014/10/1920627_1477648782508974_2486045209904698228_n.jpg
END:VEVENT
BEGIN:VEVENT
DTSTART;TZID=America/Los_Angeles:20251011T100000
DTEND;TZID=America/Los_Angeles:20251011T110000
DTSTAMP:20260421T052838
CREATED:20250908T184908Z
LAST-MODIFIED:20250908T204040Z
UID:10000420-1760176800-1760180400@sloatgardens.com
SUMMARY:In Store Pleasant Hill Seminar: Planting Shade Trees
DESCRIPTION:We’ll guide you through selecting shade trees based on climate\, soil conditions\, and space requirements. This seminar covers growth rates\, mature sizes\, and maintenance needs to help you choose trees that will provide years of cooling comfort and beauty. Join us!  With Tim.  Please call the store to register. 925-939-9000
URL:https://sloatgardens.com/event/in-store-pleasant-hill-seminar-planting-shade-trees/
LOCATION:Sloat Pleasant Hill
CATEGORIES:In-Store
ATTACH;FMTTYPE=image/jpeg:https://sloatgardens.com/wp-content/uploads/2016/05/planting-trees-shutterstock_1249215-planting.jpg
END:VEVENT
BEGIN:VEVENT
DTSTART;TZID=America/Los_Angeles:20251011T100000
DTEND;TZID=America/Los_Angeles:20251011T110000
DTSTAMP:20260421T052838
CREATED:20250909T175640Z
LAST-MODIFIED:20250909T175726Z
UID:10000431-1760176800-1760180400@sloatgardens.com
SUMMARY:In-Store Kentfield Pruning Basics Seminar with Elizabeth Ruiz
DESCRIPTION:Pruning expert Elizabeth Ruiz joins us to demonstrate effective pruning techniques. She’ll also share general tips and troubleshooting. This seminar (held during our Harvest Festivals) is recommended for every level of gardener. Please call your preferred location to reserve a spot. See you there! \nSeminar Locations & Dates: \n\nKentfield.\, 10/11\, 10-11am. 415-454-0262\nPetaluma\, 10/25\, 10-11am. 707-347-5837
URL:https://sloatgardens.com/event/in-store-kentfield-pruning-basics-seminar-with-elizabeth-ruiz/
LOCATION:Sloat Kentfield
CATEGORIES:In-Store
ATTACH;FMTTYPE=image/jpeg:https://sloatgardens.com/wp-content/uploads/2021/12/pruning.jpg
END:VEVENT
BEGIN:VEVENT
DTSTART;TZID=America/Los_Angeles:20251011T130000
DTEND;TZID=America/Los_Angeles:20251011T140000
DTSTAMP:20260421T052838
CREATED:20250909T131904Z
LAST-MODIFIED:20250926T164843Z
UID:10000427-1760187600-1760191200@sloatgardens.com
SUMMARY:In-Store Kentfield Harvest Festival Succulent Pumpkin Workshop
DESCRIPTION:Create a beautiful decorative centerpiece perfect for fall! Join us for this popular hands-on workshop to design your own succulent pumpkin arrangement. This workshop takes place during our Harvest Festivals. Dates noted below. $60 fee per participant. All materials included: pumpkin\, moss\, succulents\, and expert instruction.  \nWorkshop Locations & Dates: \n\nKentfield – October 11\, 1-2pm | Call 415-454-0262 to register\nPetaluma – October 25\, 1-2pm | Call 707-347-5837 to register\n\nPlease call your preferred location to reserve a spot. This workshop fills up quickly and is always a favorite among our guests!
URL:https://sloatgardens.com/event/in-store-kentfield-harvest-festival-succulent-pumpkin-workshop/
LOCATION:Sloat Kentfield
CATEGORIES:In-Store
ATTACH;FMTTYPE=image/jpeg:https://sloatgardens.com/wp-content/uploads/2020/09/succulent-pumpkin-seminar-5.jpg
END:VEVENT
BEGIN:VEVENT
DTSTART;TZID=America/Los_Angeles:20251025T100000
DTEND;TZID=America/Los_Angeles:20251025T110000
DTSTAMP:20260421T052838
CREATED:20250909T175813Z
LAST-MODIFIED:20250909T175932Z
UID:10000432-1761386400-1761390000@sloatgardens.com
SUMMARY:In-Store Petaluma Pruning Basics Seminar with Elizabeth Ruiz
DESCRIPTION:Pruning expert Elizabeth Ruiz joins us to demonstrate effective pruning techniques. She’ll also share general tips and troubleshooting. This seminar (held during our Petaluma Harvest Festival) is recommended for every level of gardener. Please call to reserve a spot. See you there! \nSeminar Locations & Dates: \n\nPetaluma\, 10/25\, 10-11am. 707-347-5837
URL:https://sloatgardens.com/event/in-store-petaluma-pruning-basics-seminar-with-elizabeth-ruiz/
LOCATION:Sloat Petaluma\, 301 Wilson at East D St\, Petaluma\, CA\, 94952\, United States
CATEGORIES:In-Store
ATTACH;FMTTYPE=image/jpeg:https://sloatgardens.com/wp-content/uploads/2021/12/pruning.jpg
END:VEVENT
BEGIN:VEVENT
DTSTART;TZID=America/Los_Angeles:20251025T130000
DTEND;TZID=America/Los_Angeles:20251025T140000
DTSTAMP:20260421T052838
CREATED:20250909T132032Z
LAST-MODIFIED:20250926T164948Z
UID:10000428-1761397200-1761400800@sloatgardens.com
SUMMARY:In-Store Petaluma Harvest Festival Succulent Pumpkin Workshop
DESCRIPTION:Create a beautiful decorative centerpiece perfect for fall! Join us for this popular hands-on workshop to design your own succulent pumpkin arrangement. This workshop takes place during our Harvest Festival. $60 fee per participant. All materials included: pumpkin\, moss\, succulents\, and expert instruction.  \n$60 per person | Advanced registration required \n\nPetaluma – October 25\, 1-2pm | Call 707-347-5837 to register\n\nPlease call to reserve a spot. This workshop fills up quickly and is always a favorite among our guests!
URL:https://sloatgardens.com/event/in-store-petaluma-harvest-festival-succulent-pumpkin-workshop/
LOCATION:Sloat Petaluma\, 301 Wilson at East D St\, Petaluma\, CA\, 94952\, United States
CATEGORIES:In-Store
ATTACH;FMTTYPE=image/jpeg:https://sloatgardens.com/wp-content/uploads/2014/10/10704105_1477648842508968_239088238156991683_n.jpg
END:VEVENT
END:VCALENDAR