BEGIN:VCALENDAR
VERSION:2.0
PRODID:-//Sloat Garden Center - ECPv6.15.20//NONSGML v1.0//EN
CALSCALE:GREGORIAN
METHOD:PUBLISH
X-ORIGINAL-URL:https://sloatgardens.com
X-WR-CALDESC:Events for Sloat Garden Center
REFRESH-INTERVAL;VALUE=DURATION:PT1H
X-Robots-Tag:noindex
X-PUBLISHED-TTL:PT1H
BEGIN:VTIMEZONE
TZID:America/Los_Angeles
BEGIN:DAYLIGHT
TZOFFSETFROM:-0800
TZOFFSETTO:-0700
TZNAME:PDT
DTSTART:20240310T100000
END:DAYLIGHT
BEGIN:STANDARD
TZOFFSETFROM:-0700
TZOFFSETTO:-0800
TZNAME:PST
DTSTART:20241103T090000
END:STANDARD
BEGIN:DAYLIGHT
TZOFFSETFROM:-0800
TZOFFSETTO:-0700
TZNAME:PDT
DTSTART:20250309T100000
END:DAYLIGHT
BEGIN:STANDARD
TZOFFSETFROM:-0700
TZOFFSETTO:-0800
TZNAME:PST
DTSTART:20251102T090000
END:STANDARD
BEGIN:DAYLIGHT
TZOFFSETFROM:-0800
TZOFFSETTO:-0700
TZNAME:PDT
DTSTART:20260308T100000
END:DAYLIGHT
BEGIN:STANDARD
TZOFFSETFROM:-0700
TZOFFSETTO:-0800
TZNAME:PST
DTSTART:20261101T090000
END:STANDARD
END:VTIMEZONE
BEGIN:VEVENT
DTSTART;TZID=America/Los_Angeles:20250906T100000
DTEND;TZID=America/Los_Angeles:20250906T110000
DTSTAMP:20260421T070915
CREATED:20250814T212347Z
LAST-MODIFIED:20250814T212810Z
UID:10000418-1757152800-1757156400@sloatgardens.com
SUMMARY:Webinar: Fall Garden Tips
DESCRIPTION:Join our resident garden and edible plant expert Dan Alexander for essential fall garden preparation tips. This webinar covers how to get your garden ready for the season. You’ll also learn specific strategies for maintaining and preparing your vegetable garden through fall. Join us! \n\nSat.\, Sept. 6th\, 10am\n\nRegister for this free Zoom webinar. 
URL:https://sloatgardens.com/event/webinar-fall-garden-tips/
LOCATION:CA
CATEGORIES:Webinar
ATTACH;FMTTYPE=image/jpeg:https://sloatgardens.com/wp-content/uploads/2025/04/veg-editorial.jpg
END:VEVENT
BEGIN:VEVENT
DTSTART;TZID=America/Los_Angeles:20250920T100000
DTEND;TZID=America/Los_Angeles:20250920T170000
DTSTAMP:20260421T070915
CREATED:20250627T173033Z
LAST-MODIFIED:20250904T193713Z
UID:10000047-1758362400-1758387600@sloatgardens.com
SUMMARY:California Carnivores Pop-Up Market - Concord
DESCRIPTION:California Carnivores Pop-Up Market – Concord \nJoin us at our Concord store for hand picked carnivorous plants from our friends at California Carnivores. \nConcord Sloat Garden Center location only. \n\nSaturday\, September 20th\, 10-4pm
URL:https://sloatgardens.com/event/california-carnivores-pop-up-market-concord/
LOCATION:CA
CATEGORIES:In-Store
ATTACH;FMTTYPE=image/jpeg:https://sloatgardens.com/wp-content/uploads/2016/08/pitcher-plant-3.jpg
END:VEVENT
BEGIN:VEVENT
DTSTART;TZID=America/Los_Angeles:20250927T100000
DTEND;TZID=America/Los_Angeles:20250927T110000
DTSTAMP:20260421T070915
CREATED:20250625T193047Z
LAST-MODIFIED:20250625T193349Z
UID:10000045-1758967200-1758970800@sloatgardens.com
SUMMARY:In Store Pleasant Hill Seminar: How to Plant a Fall Vegetable Garden
DESCRIPTION:How to Plant a Fall Vegetable Garden \nLearn which vegetables thrive in cooler weather. This seminar will help you time plantings to enjoy fresh vegetables well into winter. With LeAnn. Please call the store to register. 925-939-9000 \n\nSat\, Sept 27\, 10am
URL:https://sloatgardens.com/event/in-store-pleasant-hill-seminar-how-to-plant-a-fall-vegetable-garden/
LOCATION:Sloat Pleasant Hill
CATEGORIES:In-Store
ATTACH;FMTTYPE=image/jpeg:https://sloatgardens.com/wp-content/uploads/2025/01/veg-broccoli-strawberry-chard-scaled.jpeg
END:VEVENT
BEGIN:VEVENT
DTSTART;TZID=America/Los_Angeles:20250927T100000
DTEND;TZID=America/Los_Angeles:20250927T110000
DTSTAMP:20260421T070915
CREATED:20250909T180117Z
LAST-MODIFIED:20250909T180117Z
UID:10000429-1758967200-1758970800@sloatgardens.com
SUMMARY:In-Store Sloat Blvd SF Pruning Basics Seminar with Elizabeth Ruiz
DESCRIPTION:Pruning expert Elizabeth Ruiz joins us to demonstrate effective pruning techniques. She’ll also share general tips and troubleshooting. This seminar (held during our Harvest Festivals) is recommended for every level of gardener. Please call your preferred location to reserve a spot. See you there! \nSeminar Locations & Dates: \n\nSloat Blvd\, SF\, 9/27\, 10-11am. 415-566-4415\nPleasant Hill\, 10/4\, 10-11am. 925-939-9000\nKentfield.\, 10/11\, 10-11am. 415-454-0262\nPetaluma\, 10/25\, 10-11am. 707-347-5837
URL:https://sloatgardens.com/event/in-store-sloat-blvd-sf-pruning-basics-seminar-with-elizabeth-ruiz/
LOCATION:Sloat Boulevard\, SF\, 2700 Sloat Blvd\, San Francisco\, CA\, 94116\, United States
CATEGORIES:In-Store
ATTACH;FMTTYPE=image/jpeg:https://sloatgardens.com/wp-content/uploads/2021/12/pruning.jpg
END:VEVENT
BEGIN:VEVENT
DTSTART;TZID=America/Los_Angeles:20250927T130000
DTEND;TZID=America/Los_Angeles:20250927T140000
DTSTAMP:20260421T070915
CREATED:20250908T221310Z
LAST-MODIFIED:20250926T162253Z
UID:10000423-1758978000-1758981600@sloatgardens.com
SUMMARY:In-Store Sloat Blvd SF Harvest Festival Succulent Pumpkin Workshop
DESCRIPTION:Create a beautiful decorative centerpiece perfect for fall! Join us for this popular hands-on workshop to design your own succulent pumpkin arrangement. This workshop takes place during our Harvest Festivals. Dates noted below. $60 fee per participant. All materials included: pumpkin\, moss\, succulents\, and expert instruction.  \nWorkshop Locations & Dates: \n\nSloat Blvd – September 27\, 1-2pm | Call 415-566-4415 to register\nPleasant Hill – October 4\, 1-2pm | Call 925-939-9000 to register\nKentfield – October 11\, 1-2pm | Call 415-454-0262 to register\nPetaluma – October 25\, 1-2pm | Call 707-347-5837 to register\n\nPlease call your preferred location to reserve a spot. This workshop fills up quickly and is always a favorite among our guests!
URL:https://sloatgardens.com/event/in-store-sloat-blvd-sf-harvest-festival-succulent-pumpkin-workshop/
LOCATION:Sloat Boulevard\, SF\, 2700 Sloat Blvd\, San Francisco\, CA\, 94116\, United States
CATEGORIES:In-Store
ATTACH;FMTTYPE=image/jpeg:https://sloatgardens.com/wp-content/uploads/2020/09/succulent-pumpkin-seminar-9.jpg
END:VEVENT
END:VCALENDAR