BEGIN:VCALENDAR
VERSION:2.0
PRODID:-//Sloat Garden Center - ECPv6.15.20//NONSGML v1.0//EN
CALSCALE:GREGORIAN
METHOD:PUBLISH
X-ORIGINAL-URL:https://sloatgardens.com
X-WR-CALDESC:Events for Sloat Garden Center
REFRESH-INTERVAL;VALUE=DURATION:PT1H
X-Robots-Tag:noindex
X-PUBLISHED-TTL:PT1H
BEGIN:VTIMEZONE
TZID:America/Los_Angeles
BEGIN:DAYLIGHT
TZOFFSETFROM:-0800
TZOFFSETTO:-0700
TZNAME:PDT
DTSTART:20240310T100000
END:DAYLIGHT
BEGIN:STANDARD
TZOFFSETFROM:-0700
TZOFFSETTO:-0800
TZNAME:PST
DTSTART:20241103T090000
END:STANDARD
BEGIN:DAYLIGHT
TZOFFSETFROM:-0800
TZOFFSETTO:-0700
TZNAME:PDT
DTSTART:20250309T100000
END:DAYLIGHT
BEGIN:STANDARD
TZOFFSETFROM:-0700
TZOFFSETTO:-0800
TZNAME:PST
DTSTART:20251102T090000
END:STANDARD
BEGIN:DAYLIGHT
TZOFFSETFROM:-0800
TZOFFSETTO:-0700
TZNAME:PDT
DTSTART:20260308T100000
END:DAYLIGHT
BEGIN:STANDARD
TZOFFSETFROM:-0700
TZOFFSETTO:-0800
TZNAME:PST
DTSTART:20261101T090000
END:STANDARD
END:VTIMEZONE
BEGIN:VEVENT
DTSTART;TZID=America/Los_Angeles:20250710T110000
DTEND;TZID=America/Los_Angeles:20250713T130000
DTSTAMP:20260421T105458
CREATED:20250710T203445Z
LAST-MODIFIED:20250710T204146Z
UID:10000049-1752145200-1752411600@sloatgardens.com
SUMMARY:Kid's Week through July 13
DESCRIPTION:Join us for the return of Kids Week at all Sloat Garden Center locations July 7 – 13 from 11am to 1pm! \nStop in during store hours for free activities\, projects to take home\, and family fun. Also\, pick up a Kids Club Card and discover the magic of plants!
URL:https://sloatgardens.com/event/kids-week-through-july-13/
LOCATION:CA
CATEGORIES:In-Store
ATTACH;FMTTYPE=image/jpeg:https://sloatgardens.com/wp-content/uploads/2025/06/Kids-Week-Activity-Table-Sign-2025-1.jpg
END:VEVENT
BEGIN:VEVENT
DTSTART;TZID=America/Los_Angeles:20250712T100000
DTEND;TZID=America/Los_Angeles:20250712T110000
DTSTAMP:20260421T105458
CREATED:20250530T214243Z
LAST-MODIFIED:20250530T214854Z
UID:10000040-1752314400-1752318000@sloatgardens.com
SUMMARY:In Store Pleasant Hill Seminar: All about Lawns
DESCRIPTION:Learn the fundamentals of lawn maintenance with guidance on proper watering techniques\, fertilization schedules\, and seasonal care practices for a healthy\, vibrant lawn year-round. \nWhat to bring: A small lawn plug sample for soil and grass analysis during the session. \nPlease call the store to register. 925-939-9000 \n\nSat.\, July 12\, 10am\, Pleasant Hill\n\n 
URL:https://sloatgardens.com/event/in-store-pleasant-hill-seminar-all-about-lawns/
LOCATION:Sloat Pleasant Hill
CATEGORIES:In-Store
ATTACH;FMTTYPE=image/jpeg:https://sloatgardens.com/wp-content/uploads/2016/02/grass-lawn-shutterstock_10840972.jpg
END:VEVENT
BEGIN:VEVENT
DTSTART;VALUE=DATE:20250718
DTEND;VALUE=DATE:20250812
DTSTAMP:20260421T105458
CREATED:20250627T173740Z
LAST-MODIFIED:20250813T210014Z
UID:10000048-1752796800-1754956799@sloatgardens.com
SUMMARY:Dutch Auction Pottery Sale at 4 Stores
DESCRIPTION:
URL:https://sloatgardens.com/event/dutch-auction-pottery-sale/
LOCATION:CA
CATEGORIES:In-Store
ATTACH;FMTTYPE=image/png:https://sloatgardens.com/wp-content/uploads/2025/06/dutch-1.png
END:VEVENT
BEGIN:VEVENT
DTSTART;TZID=America/Los_Angeles:20250719T100000
DTEND;TZID=America/Los_Angeles:20250719T110000
DTSTAMP:20260421T105458
CREATED:20250623T211309Z
LAST-MODIFIED:20250623T221413Z
UID:10000042-1752919200-1752922800@sloatgardens.com
SUMMARY:Bay Area Pollinators & Butterflies
DESCRIPTION:Discover plants that will keep your garden buzzing with life all year long\, creating essential rest stops for migrating butterflies while supporting local pollinators. Please call the store to register. 925-939-9000\n\n\nJuly 19\, 10am. Pleasant Hill location
URL:https://sloatgardens.com/event/pollinators/
LOCATION:Sloat Pleasant Hill
CATEGORIES:Seminars & Events
ATTACH;FMTTYPE=image/jpeg:https://sloatgardens.com/wp-content/uploads/2022/05/butterfly.jpg
END:VEVENT
BEGIN:VEVENT
DTSTART;TZID=America/Los_Angeles:20250720T100000
DTEND;TZID=America/Los_Angeles:20250720T110000
DTSTAMP:20260421T105458
CREATED:20250530T215110Z
LAST-MODIFIED:20250530T221846Z
UID:10000041-1753005600-1753009200@sloatgardens.com
SUMMARY:In Store Pleasant Hill Seminar: Caring for Airplants
DESCRIPTION:Discover the fascinating world of Tillandsia (air plants). Learn proper watering techniques and explore creative display ideas for these soil-free beauties. Airplants are excellent for beginners looking for low-maintenance\, versatile plants. With Kylea. \nPlease call the store to register. 925-939-9000 \n\nSun.\, July 20\, 10am\, Pleasant Hill
URL:https://sloatgardens.com/event/in-store-pleasant-hill-seminar-caring-for-airplants/
LOCATION:Sloat Pleasant Hill
CATEGORIES:In-Store
ATTACH;FMTTYPE=image/jpeg:https://sloatgardens.com/wp-content/uploads/2014/11/5-IMG_1960.jpg
END:VEVENT
END:VCALENDAR