BEGIN:VCALENDAR
VERSION:2.0
PRODID:-//Sloat Garden Center - ECPv6.15.20//NONSGML v1.0//EN
CALSCALE:GREGORIAN
METHOD:PUBLISH
X-WR-CALNAME:Sloat Garden Center
X-ORIGINAL-URL:https://sloatgardens.com
X-WR-CALDESC:Events for Sloat Garden Center
REFRESH-INTERVAL;VALUE=DURATION:PT1H
X-Robots-Tag:noindex
X-PUBLISHED-TTL:PT1H
BEGIN:VTIMEZONE
TZID:America/Los_Angeles
BEGIN:DAYLIGHT
TZOFFSETFROM:-0800
TZOFFSETTO:-0700
TZNAME:PDT
DTSTART:20240310T100000
END:DAYLIGHT
BEGIN:STANDARD
TZOFFSETFROM:-0700
TZOFFSETTO:-0800
TZNAME:PST
DTSTART:20241103T090000
END:STANDARD
BEGIN:DAYLIGHT
TZOFFSETFROM:-0800
TZOFFSETTO:-0700
TZNAME:PDT
DTSTART:20250309T100000
END:DAYLIGHT
BEGIN:STANDARD
TZOFFSETFROM:-0700
TZOFFSETTO:-0800
TZNAME:PST
DTSTART:20251102T090000
END:STANDARD
BEGIN:DAYLIGHT
TZOFFSETFROM:-0800
TZOFFSETTO:-0700
TZNAME:PDT
DTSTART:20260308T100000
END:DAYLIGHT
BEGIN:STANDARD
TZOFFSETFROM:-0700
TZOFFSETTO:-0800
TZNAME:PST
DTSTART:20261101T090000
END:STANDARD
END:VTIMEZONE
BEGIN:VEVENT
DTSTART;TZID=America/Los_Angeles:20250503T100000
DTEND;TZID=America/Los_Angeles:20250503T110000
DTSTAMP:20260421T140658
CREATED:20250413T185849Z
LAST-MODIFIED:20250414T213318Z
UID:10000028-1746266400-1746270000@sloatgardens.com
SUMMARY:Webinar: Fire Safe Landscaping
DESCRIPTION:May is California Fire Awareness month. We welcome experts from ‘Fire Safe Marin’ as they’ll share tips and strategies on fire safe garden requirements for homeowners. A must for all Bay Area homeowners.\n\nSat.\, May 3rd\, 10am\n\nRegister for this free Zoom webinar.
URL:https://sloatgardens.com/event/webinar-firesafe-landscaping/
LOCATION:CA
CATEGORIES:Webinar
ATTACH;FMTTYPE=image/jpeg:https://sloatgardens.com/wp-content/uploads/2025/02/manzanita.jpg
END:VEVENT
BEGIN:VEVENT
DTSTART;TZID=America/Los_Angeles:20250517T190000
DTEND;TZID=America/Los_Angeles:20250517T200000
DTSTAMP:20260421T140658
CREATED:20250213T142545Z
LAST-MODIFIED:20250226T175951Z
UID:10000027-1747508400-1747512000@sloatgardens.com
SUMMARY:In-Store Pleasant Hill Seminar: Citrus & Subtropical Fruit Trees
DESCRIPTION:Transform your yard into a tropical paradise! Learn how to successfully grow citrus trees\, avocados\, and other subtropical fruits. We’ll cover variety selection\, planting techniques\, frost protection\, and yearly maintenance. Instructor: Tim. Please call the store to register. 925-939-9000 \n\nSaturday\, May 17th\, 7PM
URL:https://sloatgardens.com/event/in-store-pleasant-hill-seminar-citrus-subtropical-fruit-trees/
LOCATION:Sloat Pleasant Hill
CATEGORIES:In-Store
ATTACH;FMTTYPE=image/jpeg:https://sloatgardens.com/wp-content/uploads/2020/11/citrus-tree.jpg
END:VEVENT
BEGIN:VEVENT
DTSTART;TZID=America/Los_Angeles:20250531T100000
DTEND;TZID=America/Los_Angeles:20250531T110000
DTSTAMP:20260421T140658
CREATED:20250413T190426Z
LAST-MODIFIED:20250414T025743Z
UID:10000029-1748685600-1748689200@sloatgardens.com
SUMMARY:In Store Pleasant Hill Seminar: Create a Monarch Waystation
DESCRIPTION:Help protect monarch butterflies by creating a certified waystation garden! Learn which plants attract and sustain monarchs\, garden design principles\, and seasonal maintenance. We’ll discuss how to register your garden as an official monarch waystation to support butterfly migration. With Tim. Please call the store to register. 925-939-9000\n\nSat\, May 31\, 10am
URL:https://sloatgardens.com/event/in-store-pleasant-hill-seminar-create-a-monarch-waystation/
LOCATION:Sloat Pleasant Hill
CATEGORIES:In-Store
ATTACH;FMTTYPE=image/jpeg:https://sloatgardens.com/wp-content/uploads/2016/02/shutterstock_208116436_butterfly.jpg
END:VEVENT
END:VCALENDAR