BEGIN:VCALENDAR
VERSION:2.0
PRODID:-//Sloat Garden Center - ECPv6.15.20//NONSGML v1.0//EN
CALSCALE:GREGORIAN
METHOD:PUBLISH
X-WR-CALNAME:Sloat Garden Center
X-ORIGINAL-URL:https://sloatgardens.com
X-WR-CALDESC:Events for Sloat Garden Center
REFRESH-INTERVAL;VALUE=DURATION:PT1H
X-Robots-Tag:noindex
X-PUBLISHED-TTL:PT1H
BEGIN:VTIMEZONE
TZID:America/Los_Angeles
BEGIN:DAYLIGHT
TZOFFSETFROM:-0800
TZOFFSETTO:-0700
TZNAME:PDT
DTSTART:20230312T100000
END:DAYLIGHT
BEGIN:STANDARD
TZOFFSETFROM:-0700
TZOFFSETTO:-0800
TZNAME:PST
DTSTART:20231105T090000
END:STANDARD
BEGIN:DAYLIGHT
TZOFFSETFROM:-0800
TZOFFSETTO:-0700
TZNAME:PDT
DTSTART:20240310T100000
END:DAYLIGHT
BEGIN:STANDARD
TZOFFSETFROM:-0700
TZOFFSETTO:-0800
TZNAME:PST
DTSTART:20241103T090000
END:STANDARD
BEGIN:DAYLIGHT
TZOFFSETFROM:-0800
TZOFFSETTO:-0700
TZNAME:PDT
DTSTART:20250309T100000
END:DAYLIGHT
BEGIN:STANDARD
TZOFFSETFROM:-0700
TZOFFSETTO:-0800
TZNAME:PST
DTSTART:20251102T090000
END:STANDARD
BEGIN:DAYLIGHT
TZOFFSETFROM:-0800
TZOFFSETTO:-0700
TZNAME:PDT
DTSTART:20260308T100000
END:DAYLIGHT
BEGIN:STANDARD
TZOFFSETFROM:-0700
TZOFFSETTO:-0800
TZNAME:PST
DTSTART:20261101T090000
END:STANDARD
BEGIN:DAYLIGHT
TZOFFSETFROM:-0800
TZOFFSETTO:-0700
TZNAME:PDT
DTSTART:20270314T100000
END:DAYLIGHT
BEGIN:STANDARD
TZOFFSETFROM:-0700
TZOFFSETTO:-0800
TZNAME:PST
DTSTART:20271107T090000
END:STANDARD
END:VTIMEZONE
BEGIN:VEVENT
DTSTART;TZID=America/Los_Angeles:20260131T100000
DTEND;TZID=America/Los_Angeles:20260131T110000
DTSTAMP:20260421T070915
CREATED:20251216T011223Z
LAST-MODIFIED:20260108T182448Z
UID:10000445-1769853600-1769857200@sloatgardens.com
SUMMARY:Free Webinar: Winter Birding Tips
DESCRIPTION:We welcome Glenn Phillips from Golden Gate Bird Alliance. He’ll be sharing winter birding practices and strategies for supporting the bird population during the cooler months. Free. Please join us!  \n\nSat.\, Jan. 31st\, 10am \n\nSign up for this free Zoom webinar 
URL:https://sloatgardens.com/event/webinar-winter-birding-tips/
CATEGORIES:Webinar
ATTACH;FMTTYPE=image/jpeg:https://sloatgardens.com/wp-content/uploads/2025/12/chickadee-shutterstock_2229103.jpg
END:VEVENT
BEGIN:VEVENT
DTSTART;TZID=America/Los_Angeles:20260124T100000
DTEND;TZID=America/Los_Angeles:20260124T230000
DTSTAMP:20260421T070915
CREATED:20251216T010134Z
LAST-MODIFIED:20260108T182510Z
UID:10000444-1769248800-1769295600@sloatgardens.com
SUMMARY:Free Webinar: How to Start your Vegetable Garden
DESCRIPTION:Spring is coming…and now is the perfect time to start your seeds. Our resident gardening expert Dan Alexander will share strategies and tips for starting a successful veggie garden from seed. He’ll cover various seed starting methods and troubleshoot challenges. This class is excellent for every level of gardener and a great way to start off the spring gardening season!  Free. \n\nSat.\, Jan. 24th\, 10am \n\nSign up for this free Zoom webinar
URL:https://sloatgardens.com/event/webinar-how-to-start-your-vegetable-garden/
CATEGORIES:Webinar
ATTACH;FMTTYPE=image/jpeg:https://sloatgardens.com/wp-content/uploads/2015/03/seed-coming-up.jpg
END:VEVENT
BEGIN:VEVENT
DTSTART;TZID=America/Los_Angeles:20260117T100000
DTEND;TZID=America/Los_Angeles:20260117T110000
DTSTAMP:20260421T070915
CREATED:20251216T005408Z
LAST-MODIFIED:20260115T183002Z
UID:10000443-1768644000-1768647600@sloatgardens.com
SUMMARY:CANCELED: How to Create a Monarch Butterfly Habitat
DESCRIPTION:We welcome our resident expert Chris Tompkins from our East Blithedale location. He’ll be sharing techniques and tips for creating a connection between monarch butterflies\, their life cycles throughout the seasons\, and the plants they depend on. A great class to help start out the gardening season!  Free. \nThis webinar has been canceled and will be rescheduled later this winter. Stay tuned!
URL:https://sloatgardens.com/event/webinar-how-to-create-a-monarch-butterfly-habitat/
CATEGORIES:Webinar
ATTACH;FMTTYPE=image/jpeg:https://sloatgardens.com/wp-content/uploads/2018/06/lantana-butterfly.jpg
END:VEVENT
BEGIN:VEVENT
DTSTART;TZID=America/Los_Angeles:20260114T170000
DTEND;TZID=America/Los_Angeles:20260114T180000
DTSTAMP:20260421T070915
CREATED:20251215T233115Z
LAST-MODIFIED:20260108T182607Z
UID:10000441-1768410000-1768413600@sloatgardens.com
SUMMARY:Free Webinar: Eco-Friendly Garden Tips
DESCRIPTION:We welcome Suzanne Bontempo from Our Water Our World! Learn how to manage pests in your landscape with practical\, eco-friendly strategies. Also\, learn how to spot common pests\, protect beneficial insects\, reduce runoff\, and use creative strategies that go beyond chemicals. From prevention tips to eco-friendly control methods\, gardeners and landscapers alike will gain practical tools that can be implemented right away. Free. \n\nWed.\, Jan. 14th\, 5pm \n\nRegister for this free Zoom webinar
URL:https://sloatgardens.com/event/webinar-eco-friendly-garden-tips/
CATEGORIES:Webinar
ATTACH;FMTTYPE=image/jpeg:https://sloatgardens.com/wp-content/uploads/2019/02/ladybug-campanula-shutterstock_77490820.jpg
END:VEVENT
BEGIN:VEVENT
DTSTART;TZID=America/Los_Angeles:20260110T110000
DTEND;TZID=America/Los_Angeles:20260110T120000
DTSTAMP:20260421T070915
CREATED:20251216T001412Z
LAST-MODIFIED:20260108T182824Z
UID:10000442-1768042800-1768046400@sloatgardens.com
SUMMARY:Free Webinar: Vinyasa Yoga – All levels Welcome
DESCRIPTION:We welcome our own team member Emma Nystedt as she guides us into Wellness with her expert led Vinyasa Yoga. We’re so happy to have her share her meditation and stretching techniques. Relax and unwind and take a moment to self-care after the holiday season. This class is appropriate for all levels. Free! \nNot required\, but suggested props: a blanket\, yoga blocks (or similar) \n\nSat.\, Jan. 10th\, 11am \n\nSign up for this free Zoom webinar
URL:https://sloatgardens.com/event/webinar-vinyasa-yoga-all-levels-are-welcome/
CATEGORIES:Webinar
ATTACH;FMTTYPE=image/jpeg:https://sloatgardens.com/wp-content/uploads/2015/01/flowering-cherry-branch-shutterstock_69114994.jpg
END:VEVENT
BEGIN:VEVENT
DTSTART;TZID=America/Los_Angeles:20250906T100000
DTEND;TZID=America/Los_Angeles:20250906T110000
DTSTAMP:20260421T070915
CREATED:20250814T212347Z
LAST-MODIFIED:20250814T212810Z
UID:10000418-1757152800-1757156400@sloatgardens.com
SUMMARY:Webinar: Fall Garden Tips
DESCRIPTION:Join our resident garden and edible plant expert Dan Alexander for essential fall garden preparation tips. This webinar covers how to get your garden ready for the season. You’ll also learn specific strategies for maintaining and preparing your vegetable garden through fall. Join us! \n\nSat.\, Sept. 6th\, 10am\n\nRegister for this free Zoom webinar. 
URL:https://sloatgardens.com/event/webinar-fall-garden-tips/
CATEGORIES:Webinar
ATTACH;FMTTYPE=image/jpeg:https://sloatgardens.com/wp-content/uploads/2025/04/veg-editorial.jpg
END:VEVENT
BEGIN:VEVENT
DTSTART;TZID=America/Los_Angeles:20250503T100000
DTEND;TZID=America/Los_Angeles:20250503T110000
DTSTAMP:20260421T070915
CREATED:20250413T185849Z
LAST-MODIFIED:20250414T213318Z
UID:10000028-1746266400-1746270000@sloatgardens.com
SUMMARY:Webinar: Fire Safe Landscaping
DESCRIPTION:May is California Fire Awareness month. We welcome experts from ‘Fire Safe Marin’ as they’ll share tips and strategies on fire safe garden requirements for homeowners. A must for all Bay Area homeowners.\n\nSat.\, May 3rd\, 10am\n\nRegister for this free Zoom webinar.
URL:https://sloatgardens.com/event/webinar-firesafe-landscaping/
CATEGORIES:Webinar
ATTACH;FMTTYPE=image/jpeg:https://sloatgardens.com/wp-content/uploads/2025/02/manzanita.jpg
END:VEVENT
BEGIN:VEVENT
DTSTART;TZID=America/Los_Angeles:20250426T100000
DTEND;TZID=America/Los_Angeles:20250426T110000
DTSTAMP:20260421T070915
CREATED:20250213T004534Z
LAST-MODIFIED:20250225T215242Z
UID:10000022-1745661600-1745665200@sloatgardens.com
SUMMARY:Webinar: Plant a Cut Flower Garden
DESCRIPTION:Learn how to grow and harvest your own fresh-cut flowers with our resident flower expert Kylea (assistant Manager at our Pleasant Hill store)! You’ll discover which flower combinations work best for bouquets and how to ensure continuous blooms throughout the season. This is a great way to connect the outdoor garden with the indoors. Scroll below to register! \n\nSaturday\, April 26th\, 10am
URL:https://sloatgardens.com/event/webinar-plant-a-cut-flower-garden/
CATEGORIES:Webinar
ATTACH;FMTTYPE=image/jpeg:https://sloatgardens.com/wp-content/uploads/2014/06/agastache-flowers.jpg
LOCATION:https://nam10.safelinks.protection.outlook.com/?url=https%3A%2F%2Fus02web.zoom.us%2Fwebinar%2Fregister%2FWN_mV2oRt4BTHCsqRckY_Ek6w&data=05%7C02%7Celizabeth%40sloatgardens.com%7C53b14ddfca39445755b608dd3ff4215d%7Cc037581f1eba4c91b8b5244d204c274f%7C0%7C0%7C638737040015282750%7CUnknown%7CTWFpbGZsb3d8eyJFbXB0eU1hcGkiOnRydWUsIlYiOiIwLjAuMDAwMCIsIlAiOiJXaW4zMiIsIkFOIjoiTWFpbCIsIldUIjoyfQ%3D%3D%7C0%7C%7C%7C&sdata=f5Xx1Yx90v80zhGSsDDT4VN3tBwc9tJi%2B92nKeroMV0%3D&reserved=0
END:VEVENT
BEGIN:VEVENT
DTSTART;TZID=America/Los_Angeles:20250412T100000
DTEND;TZID=America/Los_Angeles:20250412T110000
DTSTAMP:20260421T070915
CREATED:20250213T003954Z
LAST-MODIFIED:20250225T215210Z
UID:10000021-1744452000-1744455600@sloatgardens.com
SUMMARY:Webinar: How to Grow Tomatoes
DESCRIPTION:Don’t miss this popular tomato gardening class with veggie expert Dan Alexander! Get guidance on choosing and planting tomato varieties\, plus troubleshooting tips for common growing challenges. This webinar will give you all the tools you need to grow delicious homegrown tomatoes this spring and summer. Scroll below to register! \n\nSaturday\, April 12th\, 10am
URL:https://sloatgardens.com/event/webinar-how-to-grow-tomatoes/
CATEGORIES:Webinar
ATTACH;FMTTYPE=image/jpeg:https://sloatgardens.com/wp-content/uploads/2014/03/9-tomatoes-shutterstock_161146070.jpg
LOCATION:https://nam10.safelinks.protection.outlook.com/?url=https%3A%2F%2Fus02web.zoom.us%2Fwebinar%2Fregister%2FWN_PPPi4MIjSHKSB6mBC07XCA&data=05%7C02%7Celizabeth%40sloatgardens.com%7C53b14ddfca39445755b608dd3ff4215d%7Cc037581f1eba4c91b8b5244d204c274f%7C0%7C0%7C638737040015268862%7CUnknown%7CTWFpbGZsb3d8eyJFbXB0eU1hcGkiOnRydWUsIlYiOiIwLjAuMDAwMCIsIlAiOiJXaW4zMiIsIkFOIjoiTWFpbCIsIldUIjoyfQ%3D%3D%7C0%7C%7C%7C&sdata=cRgYO27G3dWuqcopa1z5l4Q7KmMz4fsT6mUKPETSaaw%3D&reserved=0
END:VEVENT
BEGIN:VEVENT
DTSTART;TZID=America/Los_Angeles:20250322T100000
DTEND;TZID=America/Los_Angeles:20250322T110000
DTSTAMP:20260421T070915
CREATED:20250213T003616Z
LAST-MODIFIED:20250225T215148Z
UID:10000020-1742637600-1742641200@sloatgardens.com
SUMMARY:Webinar: Tips for Designing your Garden
DESCRIPTION:Sloat Design Manager Jen Strobel will teach you how to plan to update or design your garden with confidence. Learn essential strategies for garden design\, including how to prioritize tasks and follow a proven process for beautiful results. This is a great class for anyone looking to accomplish larger garden projects this year. Scroll below to register! \n\nSaturday\, March 22nd\, 10am
URL:https://sloatgardens.com/event/webinar-tips-for-designing-your-garden/
CATEGORIES:Webinar
ATTACH;FMTTYPE=image/jpeg:https://sloatgardens.com/wp-content/uploads/2023/08/design-photo.jpg
LOCATION:https://us02web.zoom.us/webinar/register/WN_lze6M6RpRji_tvI_HryTaQ
END:VEVENT
BEGIN:VEVENT
DTSTART;TZID=America/Los_Angeles:20250315T100000
DTEND;TZID=America/Los_Angeles:20250315T110000
DTSTAMP:20260421T070915
CREATED:20250213T002921Z
LAST-MODIFIED:20250225T215130Z
UID:10000019-1742032800-1742036400@sloatgardens.com
SUMMARY:Webinar: Shade Gardening with Native Plants
DESCRIPTION:Joan Pont with the Native Plant Society returns to teach this class on designing shade gardens with California native plants. Whether you’re new to native plants or an experienced gardener\, you’ll learn valuable tips for creating a thriving shade garden with Joan. Scroll below to register!\n\nSaturday\, March 15th\,10am
URL:https://sloatgardens.com/event/webinar-shade-gardening-with-native-plants/
CATEGORIES:Webinar
ATTACH;FMTTYPE=image/jpeg:https://sloatgardens.com/wp-content/uploads/2013/04/IMG_4016.jpg
LOCATION:https://us02web.zoom.us/webinar/register/WN_RPAUU5wKTo-aWvul0ILrUw
END:VEVENT
BEGIN:VEVENT
DTSTART;TZID=America/Los_Angeles:20250308T100000
DTEND;TZID=America/Los_Angeles:20250308T110000
DTSTAMP:20260421T070915
CREATED:20250213T002613Z
LAST-MODIFIED:20250225T215029Z
UID:10000018-1741428000-1741431600@sloatgardens.com
SUMMARY:Webinar: Edible Plant Combinations
DESCRIPTION:Join our resident veggie expert Dan Alexander for an in-depth veggie growing webinar – discover which vegetables grow best together and enhance each other’s growth. Learn essential tips for preparing your garden beds and solving common vegetable growing challenges. Perfect for both beginners and experienced gardeners planning their spring gardens. Scroll below to register!\n\nSaturday\, March 8th\, 10am
URL:https://sloatgardens.com/event/webinar-edible-plant-combinations/
CATEGORIES:Webinar
ATTACH;FMTTYPE=image/jpeg:https://sloatgardens.com/wp-content/uploads/2023/05/veg-editorial-1-e1739724956874.jpg
LOCATION:https://us02web.zoom.us/webinar/register/WN_Ti_xwLPTQM-vN9ipWUoxVw
END:VEVENT
BEGIN:VEVENT
DTSTART;TZID=America/Los_Angeles:20250222T100000
DTEND;TZID=America/Los_Angeles:20250222T110000
DTSTAMP:20260421T070915
CREATED:20250210T174555Z
LAST-MODIFIED:20250210T175124Z
UID:10000017-1740218400-1740222000@sloatgardens.com
SUMMARY:Webinar: Understanding Bay Area Microclimates: Choosing the Right Plants for Your Garden
DESCRIPTION:The San Francisco Bay Area is home to distinct microclimates that can vary dramatically even within a few miles – from foggy coastal areas to sunny inland valleys. These local climate variations significantly impact which plants will thrive in your specific location. Join our resident horticulturist Taylor Pochron to learn how to “read” your garden’s microclimate. You’ll discover how factors like sun exposure\, wind patterns\, fog influence\, and temperature fluctuations affect plant growth\, and learn to select plants that will flourish in your unique growing conditions. Join us for this virtual class! \n\nSaturday\, February 22nd\, 10am
URL:https://sloatgardens.com/event/webinar-understanding-bay-area-microclimates-choosing-the-right-plants-for-your-garden/
CATEGORIES:Webinar
ATTACH;FMTTYPE=image/jpeg:https://sloatgardens.com/wp-content/uploads/2023/01/GG-bridge-e1739209673178.jpeg
LOCATION:https://us02web.zoom.us/webinar/register/WN_Rgxyj8BrQaKEhxlxHMrGCQ#/registration
END:VEVENT
BEGIN:VEVENT
DTSTART;TZID=America/Los_Angeles:20241002T170000
DTEND;TZID=America/Los_Angeles:20241002T180000
DTSTAMP:20260421T070915
CREATED:20241001T192711Z
LAST-MODIFIED:20241001T192711Z
UID:10000002-1727888400-1727892000@sloatgardens.com
SUMMARY:Webinar: The Magic of Gardening with Grasses 
DESCRIPTION:Transform your garden with ornamental grasses! Join us for an engaging workshop led by our resident expert\, Kylea\, Asst. Manager of the Pleasant Hill Store. She’ll discuss how to select the most suitable grass for your landscape\, introduce you to beneficial alternatives to invasive grasses\, and offer practical advice on overall maintenance.\n\n Wednesday\, Oct. 2nd\, 5pm\n\nRegister for this free Zoom webinar
URL:https://sloatgardens.com/event/webinar-the-magic-of-gardening-with-grasses/
CATEGORIES:Webinar
ATTACH;FMTTYPE=image/jpeg:https://sloatgardens.com/wp-content/uploads/2024/08/carex-shutterstock-image.jpeg
END:VEVENT
END:VCALENDAR