BEGIN:VCALENDAR
VERSION:2.0
PRODID:-//Sloat Garden Center - ECPv6.15.20//NONSGML v1.0//EN
CALSCALE:GREGORIAN
METHOD:PUBLISH
X-WR-CALNAME:Sloat Garden Center
X-ORIGINAL-URL:https://sloatgardens.com
X-WR-CALDESC:Events for Sloat Garden Center
REFRESH-INTERVAL;VALUE=DURATION:PT1H
X-Robots-Tag:noindex
X-PUBLISHED-TTL:PT1H
BEGIN:VTIMEZONE
TZID:America/Los_Angeles
BEGIN:DAYLIGHT
TZOFFSETFROM:-0800
TZOFFSETTO:-0700
TZNAME:PDT
DTSTART:20250309T100000
END:DAYLIGHT
BEGIN:STANDARD
TZOFFSETFROM:-0700
TZOFFSETTO:-0800
TZNAME:PST
DTSTART:20251102T090000
END:STANDARD
BEGIN:DAYLIGHT
TZOFFSETFROM:-0800
TZOFFSETTO:-0700
TZNAME:PDT
DTSTART:20260308T100000
END:DAYLIGHT
BEGIN:STANDARD
TZOFFSETFROM:-0700
TZOFFSETTO:-0800
TZNAME:PST
DTSTART:20261101T090000
END:STANDARD
BEGIN:DAYLIGHT
TZOFFSETFROM:-0800
TZOFFSETTO:-0700
TZNAME:PDT
DTSTART:20270314T100000
END:DAYLIGHT
BEGIN:STANDARD
TZOFFSETFROM:-0700
TZOFFSETTO:-0800
TZNAME:PST
DTSTART:20271107T090000
END:STANDARD
END:VTIMEZONE
BEGIN:VEVENT
DTSTART;TZID=America/Los_Angeles:20260103T130000
DTEND;TZID=America/Los_Angeles:20260104T170000
DTSTAMP:20260425T121733
CREATED:20251218T221720Z
LAST-MODIFIED:20251218T222542Z
UID:10000446-1767445200-1767546000@sloatgardens.com
SUMMARY:Seminar: Japanese Maple Pruning - multiple dates & locations
DESCRIPTION:Start off the new year and our Education and Wellness month with one of our most popular classes! Expert aesthetic pruner Elizabeth Ruiz is back to show us how to shape these beautiful garden accents. She’ll go over how to prune\, plus care and growing tips for optimum health. This class is a must for anyone interested in growing Japanese Maples. We hope you’ll join us!  \n\nSaturday\, Jan. 3rd\, 10am\, Pleasant Hill \nSaturday\, Jan. 3rd\, 1pm\, Danville \nSunday\, Jan. 4th\, 10am\, Sloat Blvd.\nSunday\, Jan. 4th\, 1pm\, Kentfield 
URL:https://sloatgardens.com/event/seminar-japanese-maple-pruning/
LOCATION:CA
CATEGORIES:In-Store,Seminars & Events
ATTACH;FMTTYPE=image/jpeg:https://sloatgardens.com/wp-content/uploads/2020/09/japanese-maple-macro.jpg
END:VEVENT
BEGIN:VEVENT
DTSTART;TZID=America/Los_Angeles:20260111T140000
DTEND;TZID=America/Los_Angeles:20260111T150000
DTSTAMP:20260425T121733
CREATED:20251219T220248Z
LAST-MODIFIED:20260102T193839Z
UID:10000454-1768140000-1768143600@sloatgardens.com
SUMMARY:Workshop: Natural Dying on Silk Scarves
DESCRIPTION:Join Hanna The Wool Witch and learn the art of natural dying. We’ll go over scouring\, mordanting\, and which plants make great dyes! You will then sprinkle dried flowers onto a silk scarf that we will roll and steam to make a beautiful piece of wearable art. Participant fee: $50. Call the store to reserve your spot!  \n\n1/11\, 2 – 3pm Sloat Blvd.\, SF
URL:https://sloatgardens.com/event/workshop-wool-witch-scarf-making/
LOCATION:Sloat Boulevard\, SF\, 2700 Sloat Blvd\, San Francisco\, CA\, 94116\, United States
CATEGORIES:In-Store,Seminars & Events
ATTACH;FMTTYPE=image/jpeg:https://sloatgardens.com/wp-content/uploads/2025/12/scarf.jpg
END:VEVENT
BEGIN:VEVENT
DTSTART;TZID=America/Los_Angeles:20260125T100000
DTEND;TZID=America/Los_Angeles:20260125T130000
DTSTAMP:20260425T121733
CREATED:20251218T221934Z
LAST-MODIFIED:20260119T231112Z
UID:10000447-1769335200-1769346000@sloatgardens.com
SUMMARY:Free Seminar: Fruit Tree Pruning - multiple dates & locations
DESCRIPTION:Join us for one of our most popular classes! We welcome back pruning expert Elizabeth Ruiz as she shares tips on how to prune fruit trees. Effective pruning is critical for preparing trees for a successful growing and fruiting season. Free! \n\n1/25\, 10am Danville \n1/25\, 1pm Concord  
URL:https://sloatgardens.com/event/seminar-fruit-tree-pruning/
LOCATION:CA
CATEGORIES:In-Store,Seminars & Events
ATTACH;FMTTYPE=image/jpeg:https://sloatgardens.com/wp-content/uploads/2023/01/fruit-pruning-shutterstock-image.jpg
END:VEVENT
BEGIN:VEVENT
DTSTART;TZID=America/Los_Angeles:20260125T100000
DTEND;TZID=America/Los_Angeles:20260125T160000
DTSTAMP:20260425T121733
CREATED:20251218T222316Z
LAST-MODIFIED:20260119T191002Z
UID:10000448-1769335200-1769356800@sloatgardens.com
SUMMARY:Free Seminar: Intro to Rose Pruning - Pleasant Hill
DESCRIPTION:We’re continuing this Education and Wellness packed month with rose pruning instruction from Rose Society members! This is an absolute must for any rose enthusiast. Experts will go over effective pruning techniques as well as care and trouble shooting. We hope to see you there! Free. \n\n1/25\, 10am Pleasant Hill\, class by Zach Wilson 
URL:https://sloatgardens.com/event/seminar-rose-pruning/
LOCATION:Sloat Pleasant Hill
CATEGORIES:In-Store,Seminars & Events
ATTACH;FMTTYPE=image/jpeg:https://sloatgardens.com/wp-content/uploads/2019/12/rose-pruning-1-e1738861116568.jpg
END:VEVENT
BEGIN:VEVENT
DTSTART;TZID=America/Los_Angeles:20260125T130000
DTEND;TZID=America/Los_Angeles:20260125T140000
DTSTAMP:20260425T121733
CREATED:20251218T222736Z
LAST-MODIFIED:20260119T190634Z
UID:10000449-1769346000-1769349600@sloatgardens.com
SUMMARY:Free Seminar: Create a Butterfly Habitat  – Pleasant Hill
DESCRIPTION:We’re honored to welcome highly accredited butterfly expert Susan Dunlap\, CEO and head researcher at Habitats for Butterflies\, Inc.! Susan will share her expertise on which nectar plants attract local butterflies\, what makes them choose your garden\, and practical tips to transform your space into a butterfly paradise. Includes a 30-minute presentation plus Q&A.  Details: https://www.habitatsforbutterflies.org Free! \n\n1/25\, 1pm\, Pleasant Hill 
URL:https://sloatgardens.com/event/seminar-create-a-butterfly-habitat/
LOCATION:Sloat Pleasant Hill
CATEGORIES:In-Store,Seminars & Events
ATTACH;FMTTYPE=image/jpeg:https://sloatgardens.com/wp-content/uploads/2025/08/swallowtail.-butterflyJPG.jpg
END:VEVENT
BEGIN:VEVENT
DTSTART;TZID=America/Los_Angeles:20260125T143000
DTEND;TZID=America/Los_Angeles:20260125T153000
DTSTAMP:20260425T121733
CREATED:20251218T223126Z
LAST-MODIFIED:20260119T190607Z
UID:10000450-1769351400-1769355000@sloatgardens.com
SUMMARY:Workshop: Handcrafted Candles – Pleasant Hill
DESCRIPTION:Take a wellness break and craft your own candle! Join Rana from San Francisco’s Bella Candle shop as she guides you through creating a handcrafted candle with premium soy and coconut wax plus luxe fragrance oils. Learn melting\, scenting\, and pouring—then take home your beautiful\, finished candle! The workshop is beginner-friendly\, interactive\, and designed to be a relaxing\, creative experience.  \n$50 per person (includes all materials: wax\, jars\, wicks\, oils\, and equipment)  \nCall the store to reserve your spot!  \n\n1/25\, 2:30pm\, Pleasant Hill 
URL:https://sloatgardens.com/event/candle-making/
LOCATION:Sloat Pleasant Hill
CATEGORIES:In-Store,Seminars & Events
ATTACH;FMTTYPE=image/jpeg:https://sloatgardens.com/wp-content/uploads/2025/12/candle-scaled.jpg
END:VEVENT
END:VCALENDAR