BEGIN:VCALENDAR
VERSION:2.0
PRODID:-//Sloat Garden Center - ECPv6.15.20//NONSGML v1.0//EN
CALSCALE:GREGORIAN
METHOD:PUBLISH
X-ORIGINAL-URL:https://sloatgardens.com
X-WR-CALDESC:Events for Sloat Garden Center
REFRESH-INTERVAL;VALUE=DURATION:PT1H
X-Robots-Tag:noindex
X-PUBLISHED-TTL:PT1H
BEGIN:VTIMEZONE
TZID:America/Los_Angeles
BEGIN:DAYLIGHT
TZOFFSETFROM:-0800
TZOFFSETTO:-0700
TZNAME:PDT
DTSTART:20240310T100000
END:DAYLIGHT
BEGIN:STANDARD
TZOFFSETFROM:-0700
TZOFFSETTO:-0800
TZNAME:PST
DTSTART:20241103T090000
END:STANDARD
BEGIN:DAYLIGHT
TZOFFSETFROM:-0800
TZOFFSETTO:-0700
TZNAME:PDT
DTSTART:20250309T100000
END:DAYLIGHT
BEGIN:STANDARD
TZOFFSETFROM:-0700
TZOFFSETTO:-0800
TZNAME:PST
DTSTART:20251102T090000
END:STANDARD
BEGIN:DAYLIGHT
TZOFFSETFROM:-0800
TZOFFSETTO:-0700
TZNAME:PDT
DTSTART:20260308T100000
END:DAYLIGHT
BEGIN:STANDARD
TZOFFSETFROM:-0700
TZOFFSETTO:-0800
TZNAME:PST
DTSTART:20261101T090000
END:STANDARD
END:VTIMEZONE
BEGIN:VEVENT
DTSTART;TZID=America/Los_Angeles:20251004T100000
DTEND;TZID=America/Los_Angeles:20251004T110000
DTSTAMP:20260425T172654
CREATED:20250909T174958Z
LAST-MODIFIED:20250909T175500Z
UID:10000430-1759572000-1759575600@sloatgardens.com
SUMMARY:In-Store Pleasant Hill Pruning Basics Seminar with Elizabeth Ruiz
DESCRIPTION:Pruning expert Elizabeth Ruiz joins us to demonstrate effective pruning techniques. She’ll also share general tips and troubleshooting. This seminar (held during our Harvest Festivals) is recommended for every level of gardener. Please call your preferred location to reserve a spot. See you there! \nSeminar Locations & Dates: \n\nPleasant Hill\, 10/4\, 10-11am. 925-939-9000\nKentfield.\, 10/11\, 10-11am. 415-454-0262\nPetaluma\, 10/25\, 10-11am. 707-347-5837
URL:https://sloatgardens.com/event/in-store-pleasant-hill-pruning-basics-seminar-with-elizabeth-ruiz/
LOCATION:Sloat Pleasant Hill
CATEGORIES:Seminars & Events
ATTACH;FMTTYPE=image/jpeg:https://sloatgardens.com/wp-content/uploads/2021/12/pruning.jpg
END:VEVENT
END:VCALENDAR