BEGIN:VCALENDAR
VERSION:2.0
PRODID:-//Sloat Garden Center - ECPv6.15.20//NONSGML v1.0//EN
CALSCALE:GREGORIAN
METHOD:PUBLISH
X-WR-CALNAME:Sloat Garden Center
X-ORIGINAL-URL:https://sloatgardens.com
X-WR-CALDESC:Events for Sloat Garden Center
REFRESH-INTERVAL;VALUE=DURATION:PT1H
X-Robots-Tag:noindex
X-PUBLISHED-TTL:PT1H
BEGIN:VTIMEZONE
TZID:America/Los_Angeles
BEGIN:DAYLIGHT
TZOFFSETFROM:-0800
TZOFFSETTO:-0700
TZNAME:PDT
DTSTART:20250309T100000
END:DAYLIGHT
BEGIN:STANDARD
TZOFFSETFROM:-0700
TZOFFSETTO:-0800
TZNAME:PST
DTSTART:20251102T090000
END:STANDARD
BEGIN:DAYLIGHT
TZOFFSETFROM:-0800
TZOFFSETTO:-0700
TZNAME:PDT
DTSTART:20260308T100000
END:DAYLIGHT
BEGIN:STANDARD
TZOFFSETFROM:-0700
TZOFFSETTO:-0800
TZNAME:PST
DTSTART:20261101T090000
END:STANDARD
BEGIN:DAYLIGHT
TZOFFSETFROM:-0800
TZOFFSETTO:-0700
TZNAME:PDT
DTSTART:20270314T100000
END:DAYLIGHT
BEGIN:STANDARD
TZOFFSETFROM:-0700
TZOFFSETTO:-0800
TZNAME:PST
DTSTART:20271107T090000
END:STANDARD
END:VTIMEZONE
BEGIN:VEVENT
DTSTART;TZID=America/Los_Angeles:20260425T103000
DTEND;TZID=America/Los_Angeles:20260425T133000
DTSTAMP:20260425T073618
CREATED:20260417T165859Z
LAST-MODIFIED:20260417T165859Z
UID:10000477-1777113000-1777123800@sloatgardens.com
SUMMARY:Sloat Blvd Pop-Up: Botanical DJ
DESCRIPTION:Plants\, beats\, and coffee. Our Botanical DJ Series is here! Stop by our Sloat Blvd SF location on April 25th from 10:30am to 1:30pm. Mus1delic (@mus1delic) brings the tunes\, The Quenched Trailer brings the coffee\, and we’ll have the plants. Come soak up the season with us. \n 
URL:https://sloatgardens.com/event/sloat-blvd-pop-up-botanical-dj/
LOCATION:Sloat Boulevard\, SF\, 2700 Sloat Blvd\, San Francisco\, CA\, 94116\, United States
CATEGORIES:Bay Area Gardening,In-Store,Seminars & Events
ATTACH;FMTTYPE=image/jpeg:https://sloatgardens.com/wp-content/uploads/2026/04/2026_Botanical-DJ_Social_SloatBlvd-scaled.jpg
END:VEVENT
END:VCALENDAR