BEGIN:VCALENDAR
VERSION:2.0
PRODID:-//Sloat Garden Center - ECPv6.15.20//NONSGML v1.0//EN
CALSCALE:GREGORIAN
METHOD:PUBLISH
X-WR-CALNAME:Sloat Garden Center
X-ORIGINAL-URL:https://sloatgardens.com
X-WR-CALDESC:Events for Sloat Garden Center
REFRESH-INTERVAL;VALUE=DURATION:PT1H
X-Robots-Tag:noindex
X-PUBLISHED-TTL:PT1H
BEGIN:VTIMEZONE
TZID:America/Los_Angeles
BEGIN:DAYLIGHT
TZOFFSETFROM:-0800
TZOFFSETTO:-0700
TZNAME:PDT
DTSTART:20250309T100000
END:DAYLIGHT
BEGIN:STANDARD
TZOFFSETFROM:-0700
TZOFFSETTO:-0800
TZNAME:PST
DTSTART:20251102T090000
END:STANDARD
BEGIN:DAYLIGHT
TZOFFSETFROM:-0800
TZOFFSETTO:-0700
TZNAME:PDT
DTSTART:20260308T100000
END:DAYLIGHT
BEGIN:STANDARD
TZOFFSETFROM:-0700
TZOFFSETTO:-0800
TZNAME:PST
DTSTART:20261101T090000
END:STANDARD
BEGIN:DAYLIGHT
TZOFFSETFROM:-0800
TZOFFSETTO:-0700
TZNAME:PDT
DTSTART:20270314T100000
END:DAYLIGHT
BEGIN:STANDARD
TZOFFSETFROM:-0700
TZOFFSETTO:-0800
TZNAME:PST
DTSTART:20271107T090000
END:STANDARD
END:VTIMEZONE
BEGIN:VEVENT
DTSTART;TZID=America/Los_Angeles:20260103T130000
DTEND;TZID=America/Los_Angeles:20260104T170000
DTSTAMP:20260421T070747
CREATED:20251218T221720Z
LAST-MODIFIED:20251218T222542Z
UID:10000446-1767445200-1767546000@sloatgardens.com
SUMMARY:Seminar: Japanese Maple Pruning - multiple dates & locations
DESCRIPTION:Start off the new year and our Education and Wellness month with one of our most popular classes! Expert aesthetic pruner Elizabeth Ruiz is back to show us how to shape these beautiful garden accents. She’ll go over how to prune\, plus care and growing tips for optimum health. This class is a must for anyone interested in growing Japanese Maples. We hope you’ll join us!  \n\nSaturday\, Jan. 3rd\, 10am\, Pleasant Hill \nSaturday\, Jan. 3rd\, 1pm\, Danville \nSunday\, Jan. 4th\, 10am\, Sloat Blvd.\nSunday\, Jan. 4th\, 1pm\, Kentfield 
URL:https://sloatgardens.com/event/seminar-japanese-maple-pruning/
LOCATION:CA
CATEGORIES:In-Store,Seminars & Events
ATTACH;FMTTYPE=image/jpeg:https://sloatgardens.com/wp-content/uploads/2020/09/japanese-maple-macro.jpg
END:VEVENT
END:VCALENDAR