BEGIN:VCALENDAR
VERSION:2.0
PRODID:-//Sloat Garden Center - ECPv6.15.20//NONSGML v1.0//EN
CALSCALE:GREGORIAN
METHOD:PUBLISH
X-WR-CALNAME:Sloat Garden Center
X-ORIGINAL-URL:https://sloatgardens.com
X-WR-CALDESC:Events for Sloat Garden Center
REFRESH-INTERVAL;VALUE=DURATION:PT1H
X-Robots-Tag:noindex
X-PUBLISHED-TTL:PT1H
BEGIN:VTIMEZONE
TZID:America/Los_Angeles
BEGIN:DAYLIGHT
TZOFFSETFROM:-0800
TZOFFSETTO:-0700
TZNAME:PDT
DTSTART:20240310T100000
END:DAYLIGHT
BEGIN:STANDARD
TZOFFSETFROM:-0700
TZOFFSETTO:-0800
TZNAME:PST
DTSTART:20241103T090000
END:STANDARD
BEGIN:DAYLIGHT
TZOFFSETFROM:-0800
TZOFFSETTO:-0700
TZNAME:PDT
DTSTART:20250309T100000
END:DAYLIGHT
BEGIN:STANDARD
TZOFFSETFROM:-0700
TZOFFSETTO:-0800
TZNAME:PST
DTSTART:20251102T090000
END:STANDARD
BEGIN:DAYLIGHT
TZOFFSETFROM:-0800
TZOFFSETTO:-0700
TZNAME:PDT
DTSTART:20260308T100000
END:DAYLIGHT
BEGIN:STANDARD
TZOFFSETFROM:-0700
TZOFFSETTO:-0800
TZNAME:PST
DTSTART:20261101T090000
END:STANDARD
END:VTIMEZONE
BEGIN:VEVENT
DTSTART;TZID=America/Los_Angeles:20250824T100000
DTEND;TZID=America/Los_Angeles:20250824T110000
DTSTAMP:20260421T104359
CREATED:20250625T192340Z
LAST-MODIFIED:20250625T192954Z
UID:10000044-1756029600-1756033200@sloatgardens.com
SUMMARY:In Store Pleasant Hill Seminar: New Varieties of Rare & Exotic Houseplants
DESCRIPTION:New Varieties of Rare & Exotic Houseplants \nDiscover the world of rare and exotic houseplants. This seminar explores how to care for their specific needs and what makes certain varieties sought after by collectors. With Kylea. Please call the store to register. 925-939-9000 \nSun\, August 24\, 10am
URL:https://sloatgardens.com/event/in-store-pleasant-hill-seminar-new-varieties-of-rare-exotic-houseplants/
LOCATION:Sloat Pleasant Hill
CATEGORIES:In-Store
ATTACH;FMTTYPE=image/png:https://sloatgardens.com/wp-content/uploads/2025/06/Monstera-Leaf-Transparent-532093679.png
END:VEVENT
END:VCALENDAR