BEGIN:VCALENDAR
VERSION:2.0
PRODID:-//Sloat Garden Center - ECPv6.15.20//NONSGML v1.0//EN
CALSCALE:GREGORIAN
METHOD:PUBLISH
X-ORIGINAL-URL:https://sloatgardens.com
X-WR-CALDESC:Events for Sloat Garden Center
REFRESH-INTERVAL;VALUE=DURATION:PT1H
X-Robots-Tag:noindex
X-PUBLISHED-TTL:PT1H
BEGIN:VTIMEZONE
TZID:America/Los_Angeles
BEGIN:DAYLIGHT
TZOFFSETFROM:-0800
TZOFFSETTO:-0700
TZNAME:PDT
DTSTART:20240310T100000
END:DAYLIGHT
BEGIN:STANDARD
TZOFFSETFROM:-0700
TZOFFSETTO:-0800
TZNAME:PST
DTSTART:20241103T090000
END:STANDARD
BEGIN:DAYLIGHT
TZOFFSETFROM:-0800
TZOFFSETTO:-0700
TZNAME:PDT
DTSTART:20250309T100000
END:DAYLIGHT
BEGIN:STANDARD
TZOFFSETFROM:-0700
TZOFFSETTO:-0800
TZNAME:PST
DTSTART:20251102T090000
END:STANDARD
BEGIN:DAYLIGHT
TZOFFSETFROM:-0800
TZOFFSETTO:-0700
TZNAME:PDT
DTSTART:20260308T100000
END:DAYLIGHT
BEGIN:STANDARD
TZOFFSETFROM:-0700
TZOFFSETTO:-0800
TZNAME:PST
DTSTART:20261101T090000
END:STANDARD
END:VTIMEZONE
BEGIN:VEVENT
DTSTART;VALUE=DATE:20250718
DTEND;VALUE=DATE:20250812
DTSTAMP:20260421T122311
CREATED:20250627T173740Z
LAST-MODIFIED:20250813T210014Z
UID:10000048-1752796800-1754956799@sloatgardens.com
SUMMARY:Dutch Auction Pottery Sale at 4 Stores
DESCRIPTION:
URL:https://sloatgardens.com/event/dutch-auction-pottery-sale/
LOCATION:CA
CATEGORIES:In-Store
ATTACH;FMTTYPE=image/png:https://sloatgardens.com/wp-content/uploads/2025/06/dutch-1.png
END:VEVENT
BEGIN:VEVENT
DTSTART;TZID=America/Los_Angeles:20250719T100000
DTEND;TZID=America/Los_Angeles:20250719T110000
DTSTAMP:20260421T122311
CREATED:20250623T211309Z
LAST-MODIFIED:20250623T221413Z
UID:10000042-1752919200-1752922800@sloatgardens.com
SUMMARY:Bay Area Pollinators & Butterflies
DESCRIPTION:Discover plants that will keep your garden buzzing with life all year long\, creating essential rest stops for migrating butterflies while supporting local pollinators. Please call the store to register. 925-939-9000\n\n\nJuly 19\, 10am. Pleasant Hill location
URL:https://sloatgardens.com/event/pollinators/
LOCATION:Sloat Pleasant Hill
CATEGORIES:Seminars & Events
ATTACH;FMTTYPE=image/jpeg:https://sloatgardens.com/wp-content/uploads/2022/05/butterfly.jpg
END:VEVENT
END:VCALENDAR