BEGIN:VCALENDAR
VERSION:2.0
PRODID:-//Sloat Garden Center - ECPv6.15.20//NONSGML v1.0//EN
CALSCALE:GREGORIAN
METHOD:PUBLISH
X-ORIGINAL-URL:https://sloatgardens.com
X-WR-CALDESC:Events for Sloat Garden Center
REFRESH-INTERVAL;VALUE=DURATION:PT1H
X-Robots-Tag:noindex
X-PUBLISHED-TTL:PT1H
BEGIN:VTIMEZONE
TZID:America/Los_Angeles
BEGIN:DAYLIGHT
TZOFFSETFROM:-0800
TZOFFSETTO:-0700
TZNAME:PDT
DTSTART:20240310T100000
END:DAYLIGHT
BEGIN:STANDARD
TZOFFSETFROM:-0700
TZOFFSETTO:-0800
TZNAME:PST
DTSTART:20241103T090000
END:STANDARD
BEGIN:DAYLIGHT
TZOFFSETFROM:-0800
TZOFFSETTO:-0700
TZNAME:PDT
DTSTART:20250309T100000
END:DAYLIGHT
BEGIN:STANDARD
TZOFFSETFROM:-0700
TZOFFSETTO:-0800
TZNAME:PST
DTSTART:20251102T090000
END:STANDARD
BEGIN:DAYLIGHT
TZOFFSETFROM:-0800
TZOFFSETTO:-0700
TZNAME:PDT
DTSTART:20260308T100000
END:DAYLIGHT
BEGIN:STANDARD
TZOFFSETFROM:-0700
TZOFFSETTO:-0800
TZNAME:PST
DTSTART:20261101T090000
END:STANDARD
END:VTIMEZONE
BEGIN:VEVENT
DTSTART;TZID=America/Los_Angeles:20250628T100000
DTEND;TZID=America/Los_Angeles:20250628T110000
DTSTAMP:20260421T143829
CREATED:20250414T150502Z
LAST-MODIFIED:20250606T013334Z
UID:10000036-1751104800-1751108400@sloatgardens.com
SUMMARY:In-Store Sloat Blvd SF Workshop: Create a Succulent Container
DESCRIPTION:Create a beautiful living arrangement at our hands-on succulent container workshop. Our experts will guide you through design principles and share care and maintenance techniques. Workshops include soil\, fertilizer\, and top dressing. Plants and pots sold separately. Join us! \nPlease call the store to register: 415-566-4415  \n\nSat.\, June 28\, 10am\, Sloat Blvd SF
URL:https://sloatgardens.com/event/in-store-sloat-blvd-sf-workshop-create-a-succulent-container/
LOCATION:Sloat Boulevard\, SF\, 2700 Sloat Blvd\, San Francisco\, CA\, 94116\, United States
CATEGORIES:In-Store
ATTACH;FMTTYPE=image/jpeg:https://sloatgardens.com/wp-content/uploads/2024/10/succulents-terracotta-4.jpg
END:VEVENT
BEGIN:VEVENT
DTSTART;TZID=America/Los_Angeles:20250628T100000
DTEND;TZID=America/Los_Angeles:20250628T110000
DTSTAMP:20260421T143829
CREATED:20250414T151713Z
LAST-MODIFIED:20250606T013315Z
UID:10000037-1751104800-1751108400@sloatgardens.com
SUMMARY:In-Store Kentfield Workshop: Create a Succulent Container
DESCRIPTION:Create a beautiful living arrangement at our hands-on succulent container workshop. Our experts will guide you through design principles and share care and maintenance techniques. Workshops include soil\, fertilizer\, and top dressing. Plants and pots sold separately. Join us!  Please call the store to register: 415-454-0262 \n\nSat.\, June 28\, 10am\, Kentfield
URL:https://sloatgardens.com/event/in-store-kentfield-workshop-create-a-succulent-container/
LOCATION:Sloat Kentfield
CATEGORIES:In-Store
ATTACH;FMTTYPE=image/jpeg:https://sloatgardens.com/wp-content/uploads/2024/09/succulent-horizontal-2.jpg
END:VEVENT
BEGIN:VEVENT
DTSTART;TZID=America/Los_Angeles:20250628T100000
DTEND;TZID=America/Los_Angeles:20250628T110000
DTSTAMP:20260421T143829
CREATED:20250414T152351Z
LAST-MODIFIED:20250505T164837Z
UID:10000038-1751104800-1751108400@sloatgardens.com
SUMMARY:In-Store Pleasant Hill Workshop: Create a Succulent Container
DESCRIPTION:Create a beautiful living arrangement at our hand-on succulent container workshop. Our experts will guide you through design principles and share care and maintenance techniques to keep your creation thriving year-round. Join us!  Please call the store to register. 925-939-9000 \n\nSat.\, June 28\, 10am\, Pleasant Hill
URL:https://sloatgardens.com/event/in-store-pleasant-hill-workshop-create-a-succulent-container/
LOCATION:Sloat Pleasant Hill
CATEGORIES:In-Store
ATTACH;FMTTYPE=image/jpeg:https://sloatgardens.com/wp-content/uploads/2021/03/succulent-editorial.jpg
END:VEVENT
END:VCALENDAR